BEGIN:VCALENDAR
VERSION:2.0
PRODID:-//Tukios.com/
BEGIN:VEVENT
UID:d26c0085-8c02-463a-bb07-99009767717a@www.ericksonhansenberlin.com
DTSTAMP:20260421T131112Z
DTSTART:20260509T150000Z
DTEND:20260509T160000Z
SUMMARY:Memorial Service
DESCRIPTION:
URL:https://www.ericksonhansenberlin.com/obituaries/barbara-sharpe
LOCATION:Kensington Congregational Church 312 Percival Avenue  Berlin CT 
	06037
GEO:41.622756;-72.783385
END:VEVENT
END:VCALENDAR