BEGIN:VCALENDAR
VERSION:2.0
PRODID:-//Tukios.com/
BEGIN:VEVENT
UID:91ac11e2-d6b2-4ee4-bfcd-9d25e6499ad0@www.ericksonhansenberlin.com
DTSTAMP:20260422T200550Z
DTSTART:20260427T140000Z
DTEND:20260427T150000Z
SUMMARY:Mass
DESCRIPTION:
URL:https://www.ericksonhansenberlin.com/obituaries/gilbert-pelletier
LOCATION:St. Paul Church 461 Alling Street  Berlin CT 06037
GEO:41.6345934;-72.7713158
END:VEVENT
END:VCALENDAR