BEGIN:VCALENDAR
VERSION:2.0
PRODID:-//Tukios.com/
BEGIN:VEVENT
UID:16e4d971-c546-4be1-9339-f6164a732d68@www.ericksonhansenberlin.com
DTSTAMP:20260422T201615Z
DTSTART:20260427
SUMMARY:Burial
DESCRIPTION:
URL:https://www.ericksonhansenberlin.com/obituaries/gilbert-pelletier
LOCATION: 1141 Stanley St  New Britain CT 06051
GEO:41.6781755;-72.7683609
END:VEVENT
END:VCALENDAR