BEGIN:VCALENDAR
VERSION:2.0
PRODID:-//Tukios.com/
BEGIN:VEVENT
UID:c634a78d-9c0b-4f86-8d03-cccbd5ad9aca@www.ericksonhansenberlin.com
DTSTAMP:20260422T200737Z
DTSTART:20260426T190000Z
DTEND:20260426T210000Z
SUMMARY:Calling Hours
DESCRIPTION:
URL:https://www.ericksonhansenberlin.com/obituaries/gilbert-pelletier
LOCATION: 111 Chamberlain Hwy  Berlin CT 06037
GEO:41.6326661;-72.7895944
END:VEVENT
END:VCALENDAR